Workbook

Sheet 聞き取り票（新）
A1: 「農業集落排水施設災害対策応援に関する協定」の聞き取り調査票（様式）
A3: 【ご記入にあたって】
A4: ・ この聞き取り調査票は、協定第６条に基づき、災害協定事務局が各種リストを作成するために実施するものです。
A5: ・ 派遣可能者については、あくまで予定としての記入で結構です。派遣可能者がいない場合又は特定できない場合は、空欄のままで結構です。
A6: ・ 調達可能な資機材については、あくまで供与可能な資機材の記入で結構です。資機材をお持ちでない場合又は供与できない場合は、空欄のままで結構です。
A7: ・ 実際に災害対策応援が必要となった際は、改めて派遣可能者及び供与可能な資機材の確認を実施させていただきます。
A8: ・ この聞き取り内容に変更が生じた場合は、本聞き取り調査票を再度記入のうえ、ＦＡＸ・メール等により随時災害協定事務局までお知らせください。
A9: ・
A11: １．調査票記入年月日
A12: 項 目 | C12: 記入例 | D12: 記入欄
A13: 記入年月日 | C13: 2011/ｘｘ/ｘｘ
A15: ２．災害協定窓口リスト
A16: 項 目 | C16: 記入例 | D16: 記入欄
A17: 都道府県名 | C17: ○○県
A18: 団体区分 | C18: 都道府県、市町村、土地連
A19: 団体名（機関名） | C19: ○○市、○○県土地改良事業団体連合会 | E19: 必ず、ご記入ください。
A20: 連絡窓口部署 | C20: 上下水道部下水道課
A21: 担当者氏名 | C21: 集排 太郎
A22: E-mail | C22: xxx-xxxxxi@xxxxx.or.jp
A23: TEL | C23: xxx-xxx-xxxx
A24: FAX | C24: xxx-xxx-xxxx
A25: 連絡窓口住所 | C25: 〒ｘｘｘ-ｘｘｘｘ ○○県○○市○○3-34-4
A27: ３．派遣可能者リスト
A28: 項 目 | C28: 記入例 | D28: 記入欄 | E28: 記入欄 | F28: 記入欄 | G28: 記入欄
A29: 所属部署 | C29: 上下水道部下水道課
A30: 派遣可能者氏名 | C30: 集排 太郎
A31: 農集排等に関する技術的経験年数 | B31: 設計・積算 | C31: 4 年
B32: 施工 | C32: - 年
B33: 管理 | C33: - 年
A34: 実際に派遣を依頼された場合に考慮すべき条件等があれば記入してください。 | C34: 主に管路工事に係る業務に従事。（過去に災害応援への参加実績あり。）
A36: ４．調達可能資機材リスト
A37: 項 目 | C37: 記入例 | D37: =HYPERLINK("#'資機材チェック'!A1","▶ 入力へ進む") -> ▶ 入力へ進む
A38: 資機材名 | C38: ミラー、ライト | D38: =IFERROR(IF(INDEX(資機材チェック!$D$6:$D$60,MATCH(SMALL(資機材チェック!$J$6:$J$60,COLUMN(A2)),資機材チェック!$J$6:$J$60,0))="","",INDEX(資機材チェック!$D$6:$D$60,MATCH(SMALL(資機材チェック!$J$6:$J$60,COLUMN(A2)),資機材チェック!$J$6:$J$60,0))),"") | E38: =IFERROR(IF(INDEX(資機材チェック!$D$6:$D$60,MATCH(SMALL(資機材チェック!$J$6:$J$60,COLUMN(B2)),資機材チェック!$J$6:$J$60,0))="","",INDEX(資機材チェック!$D$6:$D$60,MATCH(SMALL(資機材チェック!$J$6:$J$60,COLUMN(B2)),資機材チェック!$J$6:$J$60,0))),"") | F38: =IFERROR(IF(INDEX(資機材チェック!$D$6:$D$60,MATCH(SMALL(資機材チェック!$J$6:$J$60,COLUMN(C2)),資機材チェック!$J$6:$J$60,0))="","",INDEX(資機材チェック!$D$6:$D$60,MATCH(SMALL(資機材チェック!$J$6:$J$60,COLUMN(C2)),資機材チェック!$J$6:$J$60,0))),"") | G38: =IFERROR(IF(INDEX(資機材チェック!$D$6:$D$60,MATCH(SMALL(資機材チェック!$J$6:$J$60,COLUMN(D2)),資機材チェック!$J$6:$J$60,0))="","",INDEX(資機材チェック!$D$6:$D$60,MATCH(SMALL(資機材チェック!$J$6:$J$60,COLUMN(D2)),資機材チェック!$J$6:$J$60,0))),"")
A39: 規格 | C39: 柄長 ６ｍ | D39: =IFERROR(IF(INDEX(資機材チェック!$E$6:$E$60,MATCH(SMALL(資機材チェック!$J$6:$J$60,COLUMN(A2)),資機材チェック!$J$6:$J$60,0))="","",INDEX(資機材チェック!$E$6:$E$60,MATCH(SMALL(資機材チェック!$J$6:$J$60,COLUMN(A2)),資機材チェック!$J$6:$J$60,0))),"") | E39: =IFERROR(IF(INDEX(資機材チェック!$E$6:$E$60,MATCH(SMALL(資機材チェック!$J$6:$J$60,COLUMN(B2)),資機材チェック!$J$6:$J$60,0))="","",INDEX(資機材チェック!$E$6:$E$60,MATCH(SMALL(資機材チェック!$J$6:$J$60,COLUMN(B2)),資機材チェック!$J$6:$J$60,0))),"") | F39: =IFERROR(IF(INDEX(資機材チェック!$E$6:$E$60,MATCH(SMALL(資機材チェック!$J$6:$J$60,COLUMN(C2)),資機材チェック!$J$6:$J$60,0))="","",INDEX(資機材チェック!$E$6:$E$60,MATCH(SMALL(資機材チェック!$J$6:$J$60,COLUMN(C2)),資機材チェック!$J$6:$J$60,0))),"") | G39: =IFERROR(IF(INDEX(資機材チェック!$E$6:$E$60,MATCH(SMALL(資機材チェック!$J$6:$J$60,COLUMN(D2)),資機材チェック!$J$6:$J$60,0))="","",INDEX(資機材チェック!$E$6:$E$60,MATCH(SMALL(資機材チェック!$J$6:$J$60,COLUMN(D2)),資機材チェック!$J$6:$J$60,0))),"")
A40: 数量 | C40: 各１セット | D40: =IFERROR(IF(INDEX(資機材チェック!$F$6:$F$60,MATCH(SMALL(資機材チェック!$J$6:$J$60,COLUMN(A2)),資機材チェック!$J$6:$J$60,0))="","",INDEX(資機材チェック!$F$6:$F$60,MATCH(SMALL(資機材チェック!$J$6:$J$60,COLUMN(A2)),資機材チェック!$J$6:$J$60,0))),"") | E40: =IFERROR(IF(INDEX(資機材チェック!$F$6:$F$60,MATCH(SMALL(資機材チェック!$J$6:$J$60,COLUMN(B2)),資機材チェック!$J$6:$J$60,0))="","",INDEX(資機材チェック!$F$6:$F$60,MATCH(SMALL(資機材チェック!$J$6:$J$60,COLUMN(B2)),資機材チェック!$J$6:$J$60,0))),"") | F40: =IFERROR(IF(INDEX(資機材チェック!$F$6:$F$60,MATCH(SMALL(資機材チェック!$J$6:$J$60,COLUMN(C2)),資機材チェック!$J$6:$J$60,0))="","",INDEX(資機材チェック!$F$6:$F$60,MATCH(SMALL(資機材チェック!$J$6:$J$60,COLUMN(C2)),資機材チェック!$J$6:$J$60,0))),"") | G40: =IFERROR(IF(INDEX(資機材チェック!$F$6:$F$60,MATCH(SMALL(資機材チェック!$J$6:$J$60,COLUMN(D2)),資機材チェック!$J$6:$J$60,0))="","",INDEX(資機材チェック!$F$6:$F$60,MATCH(SMALL(資機材チェック!$J$6:$J$60,COLUMN(D2)),資機材チェック!$J$6:$J$60,0))),"")
A41: 実際に資機材の供与を依頼された場合に考慮すべき条件等があれば記入してください。 | C41: 業務で使用していない限りは供与可能である。 | D41: =IFERROR(IF(INDEX(資機材チェック!$G$6:$G$60,MATCH(SMALL(資機材チェック!$J$6:$J$60,COLUMN(A2)),資機材チェック!$J$6:$J$60,0))="","",INDEX(資機材チェック!$G$6:$G$60,MATCH(SMALL(資機材チェック!$J$6:$J$60,COLUMN(A2)),資機材チェック!$J$6:$J$60,0))),"") | E41: =IFERROR(IF(INDEX(資機材チェック!$G$6:$G$60,MATCH(SMALL(資機材チェック!$J$6:$J$60,COLUMN(B2)),資機材チェック!$J$6:$J$60,0))="","",INDEX(資機材チェック!$G$6:$G$60,MATCH(SMALL(資機材チェック!$J$6:$J$60,COLUMN(B2)),資機材チェック!$J$6:$J$60,0))),"") | F41: =IFERROR(IF(INDEX(資機材チェック!$G$6:$G$60,MATCH(SMALL(資機材チェック!$J$6:$J$60,COLUMN(C2)),資機材チェック!$J$6:$J$60,0))="","",INDEX(資機材チェック!$G$6:$G$60,MATCH(SMALL(資機材チェック!$J$6:$J$60,COLUMN(C2)),資機材チェック!$J$6:$J$60,0))),"") | G41: =IFERROR(IF(INDEX(資機材チェック!$G$6:$G$60,MATCH(SMALL(資機材チェック!$J$6:$J$60,COLUMN(D2)),資機材チェック!$J$6:$J$60,0))="","",INDEX(資機材チェック!$G$6:$G$60,MATCH(SMALL(資機材チェック!$J$6:$J$60,COLUMN(D2)),資機材チェック!$J$6:$J$60,0))),"")
A43: ５．その他
A44: 本災害協定に関して、ご意見等があればご記入下さい。 | C44: (記入例） 職員数の減もあり、災害に対する人材、資材等の派遣は困難ですが今後ご指導くださいますようお願いいたします。

Sheet 資機材チェック
A1: 資機材チェック
A2: 該当する資機材をチェックしてください。一覧のリストには4つのみ表示されます。4つ以上入力された場合もとても助かります。
A3: 選択数 | B3: =COUNTIF($H$6:$H$60,TRUE) -> 0 | C3: 記入例 | D3: 点検用ミラー | E3: 柄長 ６ｍ | F3: 各１セット | G3: 業務で使用していない限りは供与可能である。
H4: 業務で使用していない限りは供与可能である。
A5: No | B5: 区分 | C5: チェック欄 | D5: 資機材名 | E5: 規格 | F5: 数量 | G5: 条件等 | H5: リンク値 | I5: 優先 | J5: 反映順位
A6: 1 | B6: ★重要項目 | C6: FALSE | D6: マンホール蓋開閉器 | H6: =C6 -> FALSE | I6: =IF(OR($D6="マンホール蓋開閉器",$D6="点検用ミラー",$D6="点検用ライト",ISNUMBER(SEARCH("管口カメラ",$D6))),1,2) -> 1 | J6: =IF($H6=TRUE,$I6*1000+COUNTIFS($H$6:$H6,TRUE,$I$6:$I6,$I6),"")
A7: 2 | B7: ★重要項目 | C7: FALSE | D7: 点検用ミラー | H7: =C7 -> FALSE | I7: =IF(OR($D7="マンホール蓋開閉器",$D7="点検用ミラー",$D7="点検用ライト",ISNUMBER(SEARCH("管口カメラ",$D7))),1,2) -> 1 | J7: =IF($H7=TRUE,$I7*1000+COUNTIFS($H$6:$H7,TRUE,$I$6:$I7,$I7),"")
A8: 3 | B8: ★重要項目 | C8: FALSE | D8: 点検用ライト | H8: =C8 -> FALSE | I8: =IF(OR($D8="マンホール蓋開閉器",$D8="点検用ミラー",$D8="点検用ライト",ISNUMBER(SEARCH("管口カメラ",$D8))),1,2) -> 1 | J8: =IF($H8=TRUE,$I8*1000+COUNTIFS($H$6:$H8,TRUE,$I$6:$I8,$I8),"")
A9: 4 | B9: ★重要項目 | C9: FALSE | D9: 管口カメラ | H9: =C9 -> FALSE | I9: =IF(OR($D9="マンホール蓋開閉器",$D9="点検用ミラー",$D9="点検用ライト",ISNUMBER(SEARCH("管口カメラ",$D9))),1,2) -> 1 | J9: =IF($H9=TRUE,$I9*1000+COUNTIFS($H$6:$H9,TRUE,$I$6:$I9,$I9),"")
A10: 5 | B10: 調査用機材 | C10: FALSE | D10: コンベックス | H10: =C10 -> FALSE | I10: =IF(OR($D10="マンホール蓋開閉器",$D10="点検用ミラー",$D10="点検用ライト",ISNUMBER(SEARCH("管口カメラ",$D10))),1,2) -> 2 | J10: =IF($H10=TRUE,$I10*1000+COUNTIFS($H$6:$H10,TRUE,$I$6:$I10,$I10),"")
A11: 6 | B11: 調査用機材 | C11: FALSE | D11: 懐中電灯（電池） | H11: =C11 -> FALSE | I11: =IF(OR($D11="マンホール蓋開閉器",$D11="点検用ミラー",$D11="点検用ライト",ISNUMBER(SEARCH("管口カメラ",$D11))),1,2) -> 2 | J11: =IF($H11=TRUE,$I11*1000+COUNTIFS($H$6:$H11,TRUE,$I$6:$I11,$I11),"")
A12: 7 | B12: 調査用機材 | C12: FALSE | D12: 巻尺 | H12: =C12 -> FALSE | I12: =IF(OR($D12="マンホール蓋開閉器",$D12="点検用ミラー",$D12="点検用ライト",ISNUMBER(SEARCH("管口カメラ",$D12))),1,2) -> 2 | J12: =IF($H12=TRUE,$I12*1000+COUNTIFS($H$6:$H12,TRUE,$I$6:$I12,$I12),"")
A13: 8 | B13: 調査用機材 | C13: FALSE | D13: スタッフ | H13: =C13 -> FALSE | I13: =IF(OR($D13="マンホール蓋開閉器",$D13="点検用ミラー",$D13="点検用ライト",ISNUMBER(SEARCH("管口カメラ",$D13))),1,2) -> 2 | J13: =IF($H13=TRUE,$I13*1000+COUNTIFS($H$6:$H13,TRUE,$I$6:$I13,$I13),"")
A14: 9 | B14: 調査用機材 | C14: FALSE | D14: マイナスドライバー | H14: =C14 -> FALSE | I14: =IF(OR($D14="マンホール蓋開閉器",$D14="点検用ミラー",$D14="点検用ライト",ISNUMBER(SEARCH("管口カメラ",$D14))),1,2) -> 2 | J14: =IF($H14=TRUE,$I14*1000+COUNTIFS($H$6:$H14,TRUE,$I$6:$I14,$I14),"")
A15: 10 | B15: 調査用機材 | C15: FALSE | D15: ハンマー | H15: =C15 -> FALSE | I15: =IF(OR($D15="マンホール蓋開閉器",$D15="点検用ミラー",$D15="点検用ライト",ISNUMBER(SEARCH("管口カメラ",$D15))),1,2) -> 2 | J15: =IF($H15=TRUE,$I15*1000+COUNTIFS($H$6:$H15,TRUE,$I$6:$I15,$I15),"")
A16: 11 | B16: 調査用機材 | C16: FALSE | D16: スコップ | H16: =C16 -> FALSE | I16: =IF(OR($D16="マンホール蓋開閉器",$D16="点検用ミラー",$D16="点検用ライト",ISNUMBER(SEARCH("管口カメラ",$D16))),1,2) -> 2 | J16: =IF($H16=TRUE,$I16*1000+COUNTIFS($H$6:$H16,TRUE,$I$6:$I16,$I16),"")
A17: 12 | B17: 調査用機材 | C17: FALSE | D17: カラースプレー | H17: =C17 -> FALSE | I17: =IF(OR($D17="マンホール蓋開閉器",$D17="点検用ミラー",$D17="点検用ライト",ISNUMBER(SEARCH("管口カメラ",$D17))),1,2) -> 2 | J17: =IF($H17=TRUE,$I17*1000+COUNTIFS($H$6:$H17,TRUE,$I$6:$I17,$I17),"")
... A55: 50 | B55: 調査用車両（管内ＴＶカメラ調査の場合） | C55: FALSE | D55: 給水車＊注３） | H55: =C55 -> FALSE | I55: =IF(OR($D55="マンホール蓋開閉器",$D55="点検用ミラー",$D55="点検用ライト",ISNUMBER(SEARCH("管口カメラ",$D55))),1,2) -> 2 | J55: =IF($H55=TRUE,$I55*1000+COUNTIFS($H$6:$H55,TRUE,$I$6:$I55,$I55),"")
